BEGIN:VCALENDAR
VERSION:2.0
PRODID:-//インディーズ電力木朱式会ネ土 - ECPv6.15.20//NONSGML v1.0//EN
CALSCALE:GREGORIAN
METHOD:PUBLISH
X-ORIGINAL-URL:https://indies-denryoku.com
X-WR-CALDESC:インディーズ電力木朱式会ネ土 のイベント
REFRESH-INTERVAL;VALUE=DURATION:PT1H
X-Robots-Tag:noindex
X-PUBLISHED-TTL:PT1H
BEGIN:VTIMEZONE
TZID:Asia/Tokyo
BEGIN:STANDARD
TZOFFSETFROM:+0900
TZOFFSETTO:+0900
TZNAME:JST
DTSTART:20170101T000000
END:STANDARD
END:VTIMEZONE
BEGIN:VEVENT
DTSTART;TZID=Asia/Tokyo:20181221T223000
DTEND;TZID=Asia/Tokyo:20181222T010000
DTSTAMP:20260425T222627
CREATED:20181203T090005Z
LAST-MODIFIED:20181203T062156Z
UID:660-1545431400-1545440400@indies-denryoku.com
SUMMARY:インディーズ電力アフターパーティー開催！
DESCRIPTION:12月21日（金）「みんなして感電ツアー2018〜アフターパーティー〜」下北沢 げによい\n\n	料金：¥1\,500（+D代別） \nstart 22:30 end 25:00\nご予約は不要です！\nライブ本編に間に合わない方もご参加可能です！！
URL:https://indies-denryoku.com/event/20181221-2/
LOCATION:下北沢 げによい\, 代沢5-36-8 アルファビル2F\, 世田谷区\, 東京都\, 155-0032\, 日本
CATEGORIES:LIVE
END:VEVENT
BEGIN:VEVENT
DTSTART;TZID=Asia/Tokyo:20181221T180000
DTEND;TZID=Asia/Tokyo:20181221T190000
DTSTAMP:20260425T222627
CREATED:20180724T150705Z
LAST-MODIFIED:20180824T122936Z
UID:243-1545415200-1545418800@indies-denryoku.com
SUMMARY:インディーズ電力全国発電！下北沢風知空知【発電所39】
DESCRIPTION:12月21日（金）「みんなして感電ツアー2018〜アフターパーティー〜」下北沢 げによい\n\n	料金：¥1\,500（+D代別） \nstart 22:30 end 25:00\nご予約は不要です！\nライブ本編に間に合わない方もご参加可能です！！
URL:https://indies-denryoku.com/event/20181221/
LOCATION:下北沢風知空知【発電所39】\, 北沢2-14-2 JOW3ビル4F\, 世田谷区\, 東京都\, 155-0032\, Japan
CATEGORIES:LIVE
END:VEVENT
BEGIN:VEVENT
DTSTART;TZID=Asia/Tokyo:20181209T180000
DTEND;TZID=Asia/Tokyo:20181209T183000
DTSTAMP:20260425T222627
CREATED:20180724T150705Z
LAST-MODIFIED:20180824T104737Z
UID:240-1544378400-1544380200@indies-denryoku.com
SUMMARY:インディーズ電力全国発電！徳島Funkey Chicken【発電所38】
DESCRIPTION:12月21日（金）「みんなして感電ツアー2018〜アフターパーティー〜」下北沢 げによい\n\n	料金：¥1\,500（+D代別） \nstart 22:30 end 25:00\nご予約は不要です！\nライブ本編に間に合わない方もご参加可能です！！
URL:https://indies-denryoku.com/event/20181209/
LOCATION:徳島Funkey Chicken【発電所38】\, 栄町1-50 言問ビル2F\, 徳島市\, 徳島県\, Japan
END:VEVENT
BEGIN:VEVENT
DTSTART;TZID=Asia/Tokyo:20181208T180000
DTEND;TZID=Asia/Tokyo:20181208T183000
DTSTAMP:20260425T222627
CREATED:20180724T150705Z
LAST-MODIFIED:20180824T104844Z
UID:237-1544292000-1544293800@indies-denryoku.com
SUMMARY:インディーズ電力全国発電！広島LIVE cafe Jive【発電所25】
DESCRIPTION:12月21日（金）「みんなして感電ツアー2018〜アフターパーティー〜」下北沢 げによい\n\n	料金：¥1\,500（+D代別） \nstart 22:30 end 25:00\nご予約は不要です！\nライブ本編に間に合わない方もご参加可能です！！
URL:https://indies-denryoku.com/event/20181208/
LOCATION:広島LIVE cafe Jive【発電所25】\, 中区薬研堀2-13\, 広島市\, 広島県\, Japan
END:VEVENT
BEGIN:VEVENT
DTSTART;TZID=Asia/Tokyo:20181118T173000
DTEND;TZID=Asia/Tokyo:20181118T183000
DTSTAMP:20260425T222627
CREATED:20180724T150705Z
LAST-MODIFIED:20180824T105031Z
UID:233-1542562200-1542565800@indies-denryoku.com
SUMMARY:インディーズ電力全国発電！いわきMusic Bar burrows【発電所27】
DESCRIPTION:12月21日（金）「みんなして感電ツアー2018〜アフターパーティー〜」下北沢 げによい\n\n	料金：¥1\,500（+D代別） \nstart 22:30 end 25:00\nご予約は不要です！\nライブ本編に間に合わない方もご参加可能です！！
URL:https://indies-denryoku.com/event/20181118/
LOCATION:いわきMusic Bar burrows【発電所27】\, 平田町1-14 B1F\, いわき市\, 福島県\, Japan
END:VEVENT
BEGIN:VEVENT
DTSTART;TZID=Asia/Tokyo:20181117T173000
DTEND;TZID=Asia/Tokyo:20181117T183000
DTSTAMP:20260425T222627
CREATED:20180724T150705Z
LAST-MODIFIED:20180824T105219Z
UID:228-1542475800-1542479400@indies-denryoku.com
SUMMARY:インディーズ電力全国発電！盛岡Diningわかんたんか【発電所33】
DESCRIPTION:12月21日（金）「みんなして感電ツアー2018〜アフターパーティー〜」下北沢 げによい\n\n	料金：¥1\,500（+D代別） \nstart 22:30 end 25:00\nご予約は不要です！\nライブ本編に間に合わない方もご参加可能です！！
URL:https://indies-denryoku.com/event/20181117/
LOCATION:盛岡わかんたんか【発電所33】\, 南大通1-9-2 メゾンデプレ2F\, 盛岡市\, 岩手県\, Japan
END:VEVENT
BEGIN:VEVENT
DTSTART;TZID=Asia/Tokyo:20181116T183000
DTEND;TZID=Asia/Tokyo:20181116T190000
DTSTAMP:20260425T222627
CREATED:20180724T150705Z
LAST-MODIFIED:20180824T105301Z
UID:246-1542393000-1542394800@indies-denryoku.com
SUMMARY:インディーズ電力全国発電！仙台Live Music Cafe Dimples【発電所40】
DESCRIPTION:12月21日（金）「みんなして感電ツアー2018〜アフターパーティー〜」下北沢 げによい\n\n	料金：¥1\,500（+D代別） \nstart 22:30 end 25:00\nご予約は不要です！\nライブ本編に間に合わない方もご参加可能です！！
URL:https://indies-denryoku.com/event/20181116/
LOCATION:仙台Live Music Cafe Dimples【発電所40】\, 青葉区木町通1-4-34 石田ビル1F\, 仙台市\, 宮城県\, Japan
END:VEVENT
BEGIN:VEVENT
DTSTART;TZID=Asia/Tokyo:20181103T180000
DTEND;TZID=Asia/Tokyo:20181103T183000
DTSTAMP:20260425T222627
CREATED:20180724T150705Z
LAST-MODIFIED:20180824T105404Z
UID:225-1541268000-1541269800@indies-denryoku.com
SUMMARY:インディーズ電力全国発電！名古屋Music Bar Perch【発電所35】
DESCRIPTION:12月21日（金）「みんなして感電ツアー2018〜アフターパーティー〜」下北沢 げによい\n\n	料金：¥1\,500（+D代別） \nstart 22:30 end 25:00\nご予約は不要です！\nライブ本編に間に合わない方もご参加可能です！！
URL:https://indies-denryoku.com/event/20181103/
LOCATION:名古屋Music Bar Perch【発電所35】\, 千代田3-15-19 メゾン千代田B1F\, 名古屋市中区\, 愛知県\, Japan
END:VEVENT
BEGIN:VEVENT
DTSTART;TZID=Asia/Tokyo:20181102T180000
DTEND;TZID=Asia/Tokyo:20181102T190000
DTSTAMP:20260425T222627
CREATED:20180724T150705Z
LAST-MODIFIED:20180824T105510Z
UID:222-1541181600-1541185200@indies-denryoku.com
SUMMARY:インディーズ電力全国発電！大阪梅田ムジカジャポニカ【発電所2】
DESCRIPTION:12月21日（金）「みんなして感電ツアー2018〜アフターパーティー〜」下北沢 げによい\n\n	料金：¥1\,500（+D代別） \nstart 22:30 end 25:00\nご予約は不要です！\nライブ本編に間に合わない方もご参加可能です！！
URL:https://indies-denryoku.com/event/20181102/
LOCATION:梅田ムジカジャポニカ【発電所2】\, 堂山町1-21 モンテビル2F-01号\, 大阪市北区\, 大阪府\, Japan
END:VEVENT
BEGIN:VEVENT
DTSTART;TZID=Asia/Tokyo:20181021T180000
DTEND;TZID=Asia/Tokyo:20181021T183000
DTSTAMP:20260425T222627
CREATED:20180724T150705Z
LAST-MODIFIED:20180824T105625Z
UID:217-1540144800-1540146600@indies-denryoku.com
SUMMARY:インディーズ電力全国発電！柏Cafe Line【発電所30】
DESCRIPTION:12月21日（金）「みんなして感電ツアー2018〜アフターパーティー〜」下北沢 げによい\n\n	料金：¥1\,500（+D代別） \nstart 22:30 end 25:00\nご予約は不要です！\nライブ本編に間に合わない方もご参加可能です！！
URL:https://indies-denryoku.com/event/20181021/
LOCATION:柏Cafe Line【発電所30】\, 末広町2-2\, 柏市\, 千葉県\, Japan
END:VEVENT
BEGIN:VEVENT
DTSTART;TZID=Asia/Tokyo:20181019T183000
DTEND;TZID=Asia/Tokyo:20181019T190000
DTSTAMP:20260425T222627
CREATED:20180724T150705Z
LAST-MODIFIED:20180824T105719Z
UID:213-1539973800-1539975600@indies-denryoku.com
SUMMARY:インディーズ電力全国発電！下北沢440【発電所20】
DESCRIPTION:12月21日（金）「みんなして感電ツアー2018〜アフターパーティー〜」下北沢 げによい\n\n	料金：¥1\,500（+D代別） \nstart 22:30 end 25:00\nご予約は不要です！\nライブ本編に間に合わない方もご参加可能です！！
URL:https://indies-denryoku.com/event/20181019/
LOCATION:下北沢440【発電所20】\, 代沢5-29-15 SYビル1F\, 世田谷区\, 東京都\, 155-0032\, Japan
END:VEVENT
BEGIN:VEVENT
DTSTART;VALUE=DATE:20180922
DTEND;VALUE=DATE:20180924
DTSTAMP:20260425T222627
CREATED:20180724T150705Z
LAST-MODIFIED:20180801T170843Z
UID:49-1537574400-1537747199@indies-denryoku.com
SUMMARY:中津川 THE SOLAR BUDOKAN 2018出演決定！
DESCRIPTION:12月21日（金）「みんなして感電ツアー2018〜アフターパーティー〜」下北沢 げによい\n\n	料金：¥1\,500（+D代別） \nstart 22:30 end 25:00\nご予約は不要です！\nライブ本編に間に合わない方もご参加可能です！！
URL:https://indies-denryoku.com/event/2018092223/
LOCATION:中津川公園内特設ステージ\, 茄子川1683-797\, 中津川市\, 岐阜県\, 509-9132\, Japan
END:VEVENT
END:VCALENDAR